BEGIN:VCALENDAR
VERSION:2.0
PRODID:-//https://esg1851.de - ECPv6.15.20//NONSGML v1.0//EN
CALSCALE:GREGORIAN
METHOD:PUBLISH
X-ORIGINAL-URL:https://esg1851.de
X-WR-CALDESC:Veranstaltungen für https://esg1851.de
REFRESH-INTERVAL;VALUE=DURATION:PT1H
X-Robots-Tag:noindex
X-PUBLISHED-TTL:PT1H
BEGIN:VTIMEZONE
TZID:Europe/Berlin
BEGIN:DAYLIGHT
TZOFFSETFROM:+0100
TZOFFSETTO:+0200
TZNAME:CEST
DTSTART:20260329T010000
END:DAYLIGHT
BEGIN:STANDARD
TZOFFSETFROM:+0200
TZOFFSETTO:+0100
TZNAME:CET
DTSTART:20261025T010000
END:STANDARD
BEGIN:DAYLIGHT
TZOFFSETFROM:+0100
TZOFFSETTO:+0200
TZNAME:CEST
DTSTART:20270328T010000
END:DAYLIGHT
BEGIN:STANDARD
TZOFFSETFROM:+0200
TZOFFSETTO:+0100
TZNAME:CET
DTSTART:20271031T010000
END:STANDARD
BEGIN:DAYLIGHT
TZOFFSETFROM:+0100
TZOFFSETTO:+0200
TZNAME:CEST
DTSTART:20280326T010000
END:DAYLIGHT
BEGIN:STANDARD
TZOFFSETFROM:+0200
TZOFFSETTO:+0100
TZNAME:CET
DTSTART:20281029T010000
END:STANDARD
END:VTIMEZONE
BEGIN:VEVENT
DTSTART;TZID=Europe/Berlin:20270501T000000
DTEND;TZID=Europe/Berlin:20270501T235959
DTSTAMP:20260426T032644
CREATED:20251224T143135Z
LAST-MODIFIED:20251224T143140Z
UID:53188-1809129600-1809215999@esg1851.de
SUMMARY:Tag der Arbeit
DESCRIPTION:
URL:https://esg1851.de/event/tag-der-arbeit/
END:VEVENT
BEGIN:VEVENT
DTSTART;TZID=Europe/Berlin:20270501T110000
DTEND;TZID=Europe/Berlin:20270501T110000
DTSTAMP:20260426T032644
CREATED:20260111T152617Z
LAST-MODIFIED:20260114T193944Z
UID:53356-1809169200-1809169200@esg1851.de
SUMMARY:Mai-Turnier
DESCRIPTION:
URL:https://esg1851.de/event/mai-turnier/
END:VEVENT
END:VCALENDAR