BEGIN:VCALENDAR
VERSION:2.0
PRODID:-//https://esg1851.de - ECPv6.15.20//NONSGML v1.0//EN
CALSCALE:GREGORIAN
METHOD:PUBLISH
X-WR-CALNAME:https://esg1851.de
X-ORIGINAL-URL:https://esg1851.de
X-WR-CALDESC:Veranstaltungen für https://esg1851.de
REFRESH-INTERVAL;VALUE=DURATION:PT1H
X-Robots-Tag:noindex
X-PUBLISHED-TTL:PT1H
BEGIN:VTIMEZONE
TZID:Europe/Berlin
BEGIN:DAYLIGHT
TZOFFSETFROM:+0100
TZOFFSETTO:+0200
TZNAME:CEST
DTSTART:20260329T010000
END:DAYLIGHT
BEGIN:STANDARD
TZOFFSETFROM:+0200
TZOFFSETTO:+0100
TZNAME:CET
DTSTART:20261025T010000
END:STANDARD
BEGIN:DAYLIGHT
TZOFFSETFROM:+0100
TZOFFSETTO:+0200
TZNAME:CEST
DTSTART:20270328T010000
END:DAYLIGHT
BEGIN:STANDARD
TZOFFSETFROM:+0200
TZOFFSETTO:+0100
TZNAME:CET
DTSTART:20271031T010000
END:STANDARD
BEGIN:DAYLIGHT
TZOFFSETFROM:+0100
TZOFFSETTO:+0200
TZNAME:CEST
DTSTART:20280326T010000
END:DAYLIGHT
BEGIN:STANDARD
TZOFFSETFROM:+0200
TZOFFSETTO:+0100
TZNAME:CET
DTSTART:20281029T010000
END:STANDARD
END:VTIMEZONE
BEGIN:VEVENT
DTSTART;TZID=Europe/Berlin:20270501T000000
DTEND;TZID=Europe/Berlin:20270501T235959
DTSTAMP:20260426T032556
CREATED:20251224T143135Z
LAST-MODIFIED:20251224T143140Z
UID:53188-1809129600-1809215999@esg1851.de
SUMMARY:Tag der Arbeit
DESCRIPTION:
URL:https://esg1851.de/event/tag-der-arbeit/
END:VEVENT
BEGIN:VEVENT
DTSTART;TZID=Europe/Berlin:20270501T110000
DTEND;TZID=Europe/Berlin:20270501T110000
DTSTAMP:20260426T032556
CREATED:20260111T152617Z
LAST-MODIFIED:20260114T193944Z
UID:53356-1809169200-1809169200@esg1851.de
SUMMARY:Mai-Turnier
DESCRIPTION:
URL:https://esg1851.de/event/mai-turnier/
END:VEVENT
BEGIN:VEVENT
DTSTART;TZID=Europe/Berlin:20270506T000000
DTEND;TZID=Europe/Berlin:20270506T235959
DTSTAMP:20260426T032556
CREATED:20251224T143229Z
LAST-MODIFIED:20251224T143233Z
UID:53190-1809561600-1809647999@esg1851.de
SUMMARY:Christi Himmelfahrt
DESCRIPTION:
URL:https://esg1851.de/event/christi-himmelfahrt/
END:VEVENT
BEGIN:VEVENT
DTSTART;TZID=Europe/Berlin:20270507T190000
DTEND;TZID=Europe/Berlin:20270507T190000
DTSTAMP:20260426T032556
CREATED:20260111T152723Z
LAST-MODIFIED:20260111T152728Z
UID:53358-1809716400-1809716400@esg1851.de
SUMMARY:Vereinsblitz (9)
DESCRIPTION:
URL:https://esg1851.de/event/vereinsblitz-9/
END:VEVENT
BEGIN:VEVENT
DTSTART;TZID=Europe/Berlin:20270516T000000
DTEND;TZID=Europe/Berlin:20270516T235959
DTSTAMP:20260426T032556
CREATED:20251224T143330Z
LAST-MODIFIED:20251224T143334Z
UID:53192-1810425600-1810511999@esg1851.de
SUMMARY:Pfingstsonntag
DESCRIPTION:
URL:https://esg1851.de/event/pfingstsonntag-2/
END:VEVENT
BEGIN:VEVENT
DTSTART;TZID=Europe/Berlin:20270517T000000
DTEND;TZID=Europe/Berlin:20270517T235959
DTSTAMP:20260426T032556
CREATED:20251224T143420Z
LAST-MODIFIED:20251224T143424Z
UID:53194-1810512000-1810598399@esg1851.de
SUMMARY:Pfingstmontag
DESCRIPTION:
URL:https://esg1851.de/event/pfingstmontag-2/
END:VEVENT
BEGIN:VEVENT
DTSTART;TZID=Europe/Berlin:20270527T000000
DTEND;TZID=Europe/Berlin:20270527T235959
DTSTAMP:20260426T032556
CREATED:20251224T143531Z
LAST-MODIFIED:20251224T143536Z
UID:53196-1811376000-1811462399@esg1851.de
SUMMARY:Fronleichnam
DESCRIPTION:
URL:https://esg1851.de/event/fronleichnam-2/
END:VEVENT
END:VCALENDAR